BEGIN:VCALENDAR
VERSION:2.0
PRODID:-//Ville de Quiévrechain - ECPv5.14.1//NONSGML v1.0//EN
CALSCALE:GREGORIAN
METHOD:PUBLISH
X-WR-CALNAME:Ville de Quiévrechain
X-ORIGINAL-URL:https://quievrechain.fr
X-WR-CALDESC:Events for Ville de Quiévrechain
REFRESH-INTERVAL;VALUE=DURATION:PT1H
X-Robots-Tag:noindex
X-PUBLISHED-TTL:PT1H
BEGIN:VTIMEZONE
TZID:Europe/Paris
BEGIN:DAYLIGHT
TZOFFSETFROM:+0100
TZOFFSETTO:+0200
TZNAME:CEST
DTSTART:20240331T010000
END:DAYLIGHT
BEGIN:STANDARD
TZOFFSETFROM:+0200
TZOFFSETTO:+0100
TZNAME:CET
DTSTART:20241027T010000
END:STANDARD
END:VTIMEZONE
BEGIN:VEVENT
DTSTART;TZID=Europe/Paris:20240316T000000
DTEND;TZID=Europe/Paris:20240324T233000
DTSTAMP:20260424T203850
CREATED:20240306T101713Z
LAST-MODIFIED:20240306T101738Z
UID:59256-1710547200-1711323000@quievrechain.fr
SUMMARY:[16 au 24 mars] Exposition de l'AAASF : 20 ans d'existence !
DESCRIPTION:Exposition de peintures : 20 ans d’existence !\nLa ville organise l’exposition d’hiver du samedi 16 au dimanche 24 mars 2024 à la salle des fêtes en association avec l’AAASF qui fête ses 20 ans d’existence.  \nLes invités d’honneur :\nMichel Ménard – Peintre Aquarelliste/membre fondateur de l’association\nMonique Celestri – Sculptrice/intervenante novatrice de la technique\nJacqueline Lansman – Peintre Aquarelliste/ intervenante novatrice de la technique
URL:https://quievrechain.fr/event/2-mai-atelier-floral-2/
LOCATION:Salle des fêtes\, Place Roger Salengro\, Quiévrechain\, France
CATEGORIES:Culture
ATTACH;FMTTYPE=image/png:https://quievrechain.fr/wp-content/uploads/2024/03/affiche-expo-hiver-2024-v2-copie.png
END:VEVENT
BEGIN:VEVENT
DTSTART;TZID=Europe/Paris:20240319T160000
DTEND;TZID=Europe/Paris:20240319T173000
DTSTAMP:20260424T203850
CREATED:20240306T085736Z
LAST-MODIFIED:20240306T092119Z
UID:59232-1710864000-1710869400@quievrechain.fr
SUMMARY:[19 mars] Rencontres littéraires
DESCRIPTION:Rendez-vous le 19 mars\, à la bibliothèque\, pour les Rencontres littéraires ! \nRencontrez les auteurs : Fabrice Lisiecki et André Mfoula\, pour un moment d’échanges puis de dédicaces. \nBibliothèque\, rue de l’hôtellerie à 16h
URL:https://quievrechain.fr/event/19-mars-rencontres-litteraires/
LOCATION:Bibliotheque
CATEGORIES:Culture
ATTACH;FMTTYPE=image/png:https://quievrechain.fr/wp-content/uploads/2024/03/rencontres-litteraires-web.png
END:VEVENT
END:VCALENDAR