BEGIN:VCALENDAR
VERSION:2.0
PRODID:-//Ville de Quiévrechain - ECPv5.14.1//NONSGML v1.0//EN
CALSCALE:GREGORIAN
METHOD:PUBLISH
X-WR-CALNAME:Ville de Quiévrechain
X-ORIGINAL-URL:https://quievrechain.fr
X-WR-CALDESC:Events for Ville de Quiévrechain
REFRESH-INTERVAL;VALUE=DURATION:PT1H
X-Robots-Tag:noindex
X-PUBLISHED-TTL:PT1H
BEGIN:VTIMEZONE
TZID:Europe/Paris
BEGIN:DAYLIGHT
TZOFFSETFROM:+0100
TZOFFSETTO:+0200
TZNAME:CEST
DTSTART:20230326T010000
END:DAYLIGHT
BEGIN:STANDARD
TZOFFSETFROM:+0200
TZOFFSETTO:+0100
TZNAME:CET
DTSTART:20231029T010000
END:STANDARD
END:VTIMEZONE
BEGIN:VEVENT
DTSTART;TZID=Europe/Paris:20230507T110000
DTEND;TZID=Europe/Paris:20230507T110000
DTSTAMP:20260425T131456
CREATED:20230428T145210Z
LAST-MODIFIED:20230428T145210Z
UID:57743-1683457200-1683457200@quievrechain.fr
SUMMARY:[7 mai] L’Harmonia Sacra jouera “Fêtes Persanes”
DESCRIPTION:Rendez-vous à l’église Saint-Martin\, rue de l’église à 11 heures L’Harmonia Sacra jouera “Fêtes Persanes” de Jean-Philippe Rameau. Concert baroque. \nPrix : 10 € – Gratuit pour les moins de 18 ans\, les demandeurs d’emploi et les personnes en situation de handicap.
URL:https://quievrechain.fr/event/7-mai-lharmonia-sacra-jouera-fetes-persanes/
LOCATION:Eglise Saint-Martin\, Rue Valériani\, Quiévrechain\, 59920
CATEGORIES:Culture
ATTACH;FMTTYPE=image/png:https://quievrechain.fr/wp-content/uploads/2023/04/embaroquement.png
END:VEVENT
BEGIN:VEVENT
DTSTART;TZID=Europe/Paris:20230516T140000
DTEND;TZID=Europe/Paris:20230516T160000
DTSTAMP:20260425T131456
CREATED:20230428T114855Z
LAST-MODIFIED:20230428T143657Z
UID:57732-1684245600-1684252800@quievrechain.fr
SUMMARY:[16 mai] Présentation du roman de Camille Duwez
DESCRIPTION:Présentation du roman de Camille Duwez « Désigné Coupable ». Camille Duwez est née en 1991 à Valenciennes\, elle sort son premier roman tiré de l’histoire de sa grand-mère\, une Quiévrechinoise\, Paulette Berdin. \nVenez découvrir son premier roman lors de sa présentation en présence de l’auteur\, le mardi 16 mai au local des seniors dynamiques (rue de la Mine).
URL:https://quievrechain.fr/event/16-mai-presentation-du-roman-de-camille-duwez/
LOCATION:Local des seniors dynamiques\, rue de la mine\, Quiévrechain\, 59920
CATEGORIES:Culture
ATTACH;FMTTYPE=image/png:https://quievrechain.fr/wp-content/uploads/2023/04/Livre-Duwez-2023.png
END:VEVENT
BEGIN:VEVENT
DTSTART;VALUE=DATE:20230524
DTEND;VALUE=DATE:20230528
DTSTAMP:20260425T131456
CREATED:20230428T150038Z
LAST-MODIFIED:20230428T150038Z
UID:57750-1684886400-1685231999@quievrechain.fr
SUMMARY:[27 mai]  Polyphonie - Espace Pasolini
DESCRIPTION:Au mois de mai\, la Ville reçoit l’Espace Pasolini du mercredi 24 au samedi 27 pour des représentations de « Polyphonie ». \n18h à la salle des fêtes\, représentation tout public. Réservations au 03 27 45 42 24 à la mairie de Quiévrechain. 
URL:https://quievrechain.fr/event/27-mai-polyphonie-espace-pasolini/
LOCATION:Salle des fêtes\, Place Roger Salengro\, Quiévrechain\, France
CATEGORIES:Culture
ATTACH;FMTTYPE=image/jpeg:https://quievrechain.fr/wp-content/uploads/2023/04/IMG_4087-scaled.jpg
END:VEVENT
END:VCALENDAR