BEGIN:VCALENDAR
VERSION:2.0
PRODID:-//Ville de Quiévrechain - ECPv5.14.1//NONSGML v1.0//EN
CALSCALE:GREGORIAN
METHOD:PUBLISH
X-WR-CALNAME:Ville de Quiévrechain
X-ORIGINAL-URL:https://quievrechain.fr
X-WR-CALDESC:Events for Ville de Quiévrechain
REFRESH-INTERVAL;VALUE=DURATION:PT1H
X-Robots-Tag:noindex
X-PUBLISHED-TTL:PT1H
BEGIN:VTIMEZONE
TZID:Europe/Paris
BEGIN:DAYLIGHT
TZOFFSETFROM:+0100
TZOFFSETTO:+0200
TZNAME:CEST
DTSTART:20230326T010000
END:DAYLIGHT
BEGIN:STANDARD
TZOFFSETFROM:+0200
TZOFFSETTO:+0100
TZNAME:CET
DTSTART:20231029T010000
END:STANDARD
END:VTIMEZONE
BEGIN:VEVENT
DTSTART;TZID=Europe/Paris:20230113T190000
DTEND;TZID=Europe/Paris:20230113T210000
DTSTAMP:20260425T190626
CREATED:20221220T082729Z
LAST-MODIFIED:20230106T085727Z
UID:57071-1673636400-1673643600@quievrechain.fr
SUMMARY:[13 janvier] Une belle inconnue
DESCRIPTION:Spectacle Une belle inconnue de Nicolas Kerszenbaum – vendredi 13 janvier | 19h – Quievrechain – Salle des fêtes\, à partir de 14 ans \nPar la compagnie « Franchement\, tu » \nSpectacle gratuit sur réservation au 03 27 20 36 40 \nUne belle inconnue\, pièce pour une comédienne et cinq personnages\, écrite par Nicolas Kerszenbaum\, réenchante la rencontre entre une mère célibataire de Seine-Saint-Denis et un adolescent sans papiers passionné de mythologie grecque. \nRéservations auprès de la mairie au 03 27 45 42 24 ou à la billetterie du Phénix billetterie@lephenix.fr
URL:https://quievrechain.fr/event/13-janvier-une-belle-inconnue/
LOCATION:Salle des fêtes\, Place Roger Salengro\, Quiévrechain\, France
CATEGORIES:Culture
ATTACH;FMTTYPE=image/png:https://quievrechain.fr/wp-content/uploads/2023/01/belle-inconnue-2.png
END:VEVENT
END:VCALENDAR