BEGIN:VCALENDAR
VERSION:2.0
PRODID:-//Ville de Quiévrechain - ECPv5.14.1//NONSGML v1.0//EN
CALSCALE:GREGORIAN
METHOD:PUBLISH
X-WR-CALNAME:Ville de Quiévrechain
X-ORIGINAL-URL:https://quievrechain.fr
X-WR-CALDESC:Events for Ville de Quiévrechain
REFRESH-INTERVAL;VALUE=DURATION:PT1H
X-Robots-Tag:noindex
X-PUBLISHED-TTL:PT1H
BEGIN:VTIMEZONE
TZID:Europe/Paris
BEGIN:DAYLIGHT
TZOFFSETFROM:+0100
TZOFFSETTO:+0200
TZNAME:CEST
DTSTART:20240331T010000
END:DAYLIGHT
BEGIN:STANDARD
TZOFFSETFROM:+0200
TZOFFSETTO:+0100
TZNAME:CET
DTSTART:20241027T010000
END:STANDARD
END:VTIMEZONE
BEGIN:VEVENT
DTSTART;TZID=Europe/Paris:20241208T093000
DTEND;TZID=Europe/Paris:20241208T113000
DTSTAMP:20260420T182510
CREATED:20241121T141532Z
LAST-MODIFIED:20241121T145332Z
UID:60630-1733650200-1733657400@quievrechain.fr
SUMMARY:[8 décembre] Messe de la Sainte-Barbe à Église Saint-Martin
DESCRIPTION:🚒✨ Venez célébrer la Sainte-Barbe avec nous ! ✨🚒 \nNous vous invitons à nous rejoindre pour une messe en l’honneur de la Sainte-Barbe\, un moment de recueillement et de gratitude envers ceux qui veillent sur notre sécurité chaque jour. \n📅 Dimanche 8 décembre à 9h30\n📍 Église Saint-Martin\n🎶 Accompagné par la musique de l’Aunelle Orchestra \nCette célébration sera l’occasion de rendre hommage à la bravoure et au dévouement de nos pompiers\, mais c’est également un hommage aux anciens mineurs. 🔥 \nNous espérons vous voir nombreux ! 😊 \n 
URL:https://quievrechain.fr/event/8-decembre-messe-de-la-sainte-barbe-a-eglise-saint-martin/
LOCATION:Eglise Saint-Martin\, Rue Valériani\, Quiévrechain\, 59920
CATEGORIES:Cérémonie
ATTACH;FMTTYPE=image/jpeg:https://quievrechain.fr/wp-content/uploads/2024/11/sainte-barbe-affiche-2024.jpg
END:VEVENT
END:VCALENDAR