BEGIN:VCALENDAR
VERSION:2.0
PRODID:-//Ville de Quiévrechain - ECPv5.14.1//NONSGML v1.0//EN
CALSCALE:GREGORIAN
METHOD:PUBLISH
X-WR-CALNAME:Ville de Quiévrechain
X-ORIGINAL-URL:https://quievrechain.fr
X-WR-CALDESC:Events for Ville de Quiévrechain
REFRESH-INTERVAL;VALUE=DURATION:PT1H
X-Robots-Tag:noindex
X-PUBLISHED-TTL:PT1H
BEGIN:VTIMEZONE
TZID:Europe/Paris
BEGIN:DAYLIGHT
TZOFFSETFROM:+0100
TZOFFSETTO:+0200
TZNAME:CEST
DTSTART:20250330T010000
END:DAYLIGHT
BEGIN:STANDARD
TZOFFSETFROM:+0200
TZOFFSETTO:+0100
TZNAME:CET
DTSTART:20251026T010000
END:STANDARD
END:VTIMEZONE
BEGIN:VEVENT
DTSTART;TZID=Europe/Paris:20250124T190000
DTEND;TZID=Europe/Paris:20250124T220000
DTSTAMP:20260420T151831
CREATED:20250107T132755Z
LAST-MODIFIED:20250107T132755Z
UID:60816-1737745200-1737756000@quievrechain.fr
SUMMARY:[24 janvier] Voeux du Maire de Quiévrechain
DESCRIPTION:Pierre Griner\, Maire de Quiévrechain et le Conseil Municipal ont le plaisir de vous convier à la cérémonie des vœux qui se tiendra le vendredi 24 janvier 2025 à 19h au Complexe Sportif de la Corderie.
URL:https://quievrechain.fr/event/24-janvier-voeux-du-maire-de-quievrechain/
LOCATION:Complexe Sportif de la Corderie\, Quiévrechain\, 59920
CATEGORIES:Cérémonie
ATTACH;FMTTYPE=image/jpeg:https://quievrechain.fr/wp-content/uploads/2025/01/voeux-2025-paysage-scaled.jpg
END:VEVENT
END:VCALENDAR