BEGIN:VCALENDAR
VERSION:2.0
PRODID:-//Ville de Quiévrechain - ECPv5.14.1//NONSGML v1.0//EN
CALSCALE:GREGORIAN
METHOD:PUBLISH
X-WR-CALNAME:Ville de Quiévrechain
X-ORIGINAL-URL:https://quievrechain.fr
X-WR-CALDESC:Events for Ville de Quiévrechain
REFRESH-INTERVAL;VALUE=DURATION:PT1H
X-Robots-Tag:noindex
X-PUBLISHED-TTL:PT1H
BEGIN:VTIMEZONE
TZID:Europe/Paris
BEGIN:DAYLIGHT
TZOFFSETFROM:+0100
TZOFFSETTO:+0200
TZNAME:CEST
DTSTART:20230326T010000
END:DAYLIGHT
BEGIN:STANDARD
TZOFFSETFROM:+0200
TZOFFSETTO:+0100
TZNAME:CET
DTSTART:20231029T010000
END:STANDARD
END:VTIMEZONE
BEGIN:VEVENT
DTSTART;TZID=Europe/Paris:20230618T110000
DTEND;TZID=Europe/Paris:20230618T120000
DTSTAMP:20260421T204032
CREATED:20230615T093718Z
LAST-MODIFIED:20230615T093718Z
UID:57950-1687086000-1687089600@quievrechain.fr
SUMMARY:[18 Juin] Commémoration des passeurs d'hommes et inauguration du Square du Général de Gaulle
DESCRIPTION:Dimanche 18 juin\, rendez-vous à 11h devant la stèle commémorant les passeurs d’hommes\, située à la frontière Franco-Belge afin de rendre hommage a ses femmes et hommes résistants anonymes. \n\nRendez-vous également à 11h30 afin d’inaugurer le « Square du Général de Gaulle » situé rue Jean Mermoz (face à la Poste) ainsi que la stèle qui lui est dédiée. L’occasion également de commémorer l’appel du 18 juin prononcé par le Général de Gaulle\, le 18 juin 1940 depuis les ondes de la BBC.\n \n\n\nEn présence de la chorale de Quiévrechain\, des sapeurs-pompiers et des anciens combattants de la ville.\n \n\n\nCocktail à l’issue de l’inauguration et de la cérémonie.\n \n\n\nPhoto : Statue du Général de Gaulle – Champs Elysées – Paris
URL:https://quievrechain.fr/event/18-juin-commemoration-des-passeurs-dhommes-et-inauguration-du-square-du-general-de-gaulle/
CATEGORIES:Cérémonie
ATTACH;FMTTYPE=image/jpeg:https://quievrechain.fr/wp-content/uploads/2023/06/353841120_241518631930031_30157253240284671_n.jpeg
END:VEVENT
END:VCALENDAR