BEGIN:VCALENDAR
VERSION:2.0
PRODID:-//Ville de Quiévrechain - ECPv5.14.1//NONSGML v1.0//EN
CALSCALE:GREGORIAN
METHOD:PUBLISH
X-WR-CALNAME:Ville de Quiévrechain
X-ORIGINAL-URL:https://quievrechain.fr
X-WR-CALDESC:Events for Ville de Quiévrechain
REFRESH-INTERVAL;VALUE=DURATION:PT1H
X-Robots-Tag:noindex
X-PUBLISHED-TTL:PT1H
BEGIN:VTIMEZONE
TZID:Europe/Paris
BEGIN:DAYLIGHT
TZOFFSETFROM:+0100
TZOFFSETTO:+0200
TZNAME:CEST
DTSTART:20230326T010000
END:DAYLIGHT
BEGIN:STANDARD
TZOFFSETFROM:+0200
TZOFFSETTO:+0100
TZNAME:CET
DTSTART:20231029T010000
END:STANDARD
END:VTIMEZONE
BEGIN:VEVENT
DTSTART;TZID=Europe/Paris:20230120T190000
DTEND;TZID=Europe/Paris:20230120T230000
DTSTAMP:20260422T041416
CREATED:20230103T180012Z
LAST-MODIFIED:20230104T093750Z
UID:57098-1674241200-1674255600@quievrechain.fr
SUMMARY:[20 janvier] Voeux du Maire
DESCRIPTION:Pierre Griner\, Maire de Quiévrechain\,\n\n\nL’ensemble du Conseil Municipal\, \n\n\nOnt le plaisir de vous convier à la cérémonie des vœux qui se tiendra le vendredi 20 janvier 2023 à 19h au Complexe sportif de la Corderie.\n\n 
URL:https://quievrechain.fr/event/20-janvier-voeux-du-maire/
LOCATION:Complexe Sportif de la Corderie\, Quiévrechain\, 59920
CATEGORIES:Cérémonie
ATTACH;FMTTYPE=image/jpeg:https://quievrechain.fr/wp-content/uploads/2023/01/sfdsfds.jpg
END:VEVENT
END:VCALENDAR