BEGIN:VCALENDAR
VERSION:2.0
PRODID:-//Ville de Quiévrechain - ECPv5.14.1//NONSGML v1.0//EN
CALSCALE:GREGORIAN
METHOD:PUBLISH
X-WR-CALNAME:Ville de Quiévrechain
X-ORIGINAL-URL:https://quievrechain.fr
X-WR-CALDESC:Events for Ville de Quiévrechain
REFRESH-INTERVAL;VALUE=DURATION:PT1H
X-Robots-Tag:noindex
X-PUBLISHED-TTL:PT1H
BEGIN:VTIMEZONE
TZID:Europe/Paris
BEGIN:DAYLIGHT
TZOFFSETFROM:+0100
TZOFFSETTO:+0200
TZNAME:CEST
DTSTART:20220327T010000
END:DAYLIGHT
BEGIN:STANDARD
TZOFFSETFROM:+0200
TZOFFSETTO:+0100
TZNAME:CET
DTSTART:20221030T010000
END:STANDARD
END:VTIMEZONE
BEGIN:VEVENT
DTSTART;TZID=Europe/Paris:20221111T103000
DTEND;TZID=Europe/Paris:20221111T120000
DTSTAMP:20260422T065918
CREATED:20221108T082828Z
LAST-MODIFIED:20221108T082859Z
UID:56864-1668162600-1668168000@quievrechain.fr
SUMMARY:[11 Novembre] Cérémonie du 11 Novembre
DESCRIPTION:La ville de Quiévrechain\, vous invite\, le vendredi 11 novembre 2022\, 11h\, Place Roger Salengro\, pour le défilé et la commémoration de l’armistice du 11 novembre 1918. \nEn présence des anciens combattants et portes-drapeaux\, de l’harmonie de Quiévrechain\, des sapeurs-pompiers\, des élèves de l’écoles Jean-Marie Brison\, des représentants d’associations\, du conseil municipal et des représentants de notre ville jumelle\, Gemeinde Merzenich. \nSuivi\, à la salle des fêtes\, de la lecture des textes lauréats\, rédigés par les CM2 de l’école Jean-Marie Brison et du verre de l’amitié. \nDistribution de Bleuet de France dès 10h45.
URL:https://quievrechain.fr/event/11-novembre-ceremonie-du-11-novembre/
LOCATION:Place Roger Salengro\, Place Roger Salengro\, Quiévrechain\, 59920\, France
CATEGORIES:Cérémonie
ATTACH;FMTTYPE=image/jpeg:https://quievrechain.fr/wp-content/uploads/2022/11/11112022.jpeg
END:VEVENT
END:VCALENDAR