BEGIN:VCALENDAR
VERSION:2.0
PRODID:-//Ville de Quiévrechain - ECPv5.14.1//NONSGML v1.0//EN
CALSCALE:GREGORIAN
METHOD:PUBLISH
X-WR-CALNAME:Ville de Quiévrechain
X-ORIGINAL-URL:https://quievrechain.fr
X-WR-CALDESC:Events for Ville de Quiévrechain
REFRESH-INTERVAL;VALUE=DURATION:PT1H
X-Robots-Tag:noindex
X-PUBLISHED-TTL:PT1H
BEGIN:VTIMEZONE
TZID:Europe/Paris
BEGIN:DAYLIGHT
TZOFFSETFROM:+0100
TZOFFSETTO:+0200
TZNAME:CEST
DTSTART:20260329T010000
END:DAYLIGHT
BEGIN:STANDARD
TZOFFSETFROM:+0200
TZOFFSETTO:+0100
TZNAME:CET
DTSTART:20261025T010000
END:STANDARD
END:VTIMEZONE
BEGIN:VEVENT
DTSTART;TZID=Europe/Paris:20260521T140000
DTEND;TZID=Europe/Paris:20260521T170000
DTSTAMP:20260419T151608
CREATED:20260417T080011Z
LAST-MODIFIED:20260417T133402Z
UID:63032-1779372000-1779382800@quievrechain.fr
SUMMARY:[21 mai] Café des aidants
DESCRIPTION:☕ Rendez-vous le jeudi 21 mai dès 14h à la mairie pour participer au Café des aidants !\n \nOrganisé par le CCAS\, ce moment convivial permet aux aidants familiaux de s’informer\, partager leur expérience et trouver du soutien dans un cadre bienveillant.\n \n📌 Inscriptions jusqu’au 18 mai auprès du CCAS
URL:https://quievrechain.fr/event/21-mai-cafe-des-aidants/
LOCATION:Hotel de Ville\, Place Roger Salengro\, Quiévrechain\, France
CATEGORIES:Brocante
ATTACH;FMTTYPE=image/jpeg:https://quievrechain.fr/wp-content/uploads/2026/04/Cafe-des-aidants.jpg
END:VEVENT
END:VCALENDAR