BEGIN:VCALENDAR
VERSION:2.0
PRODID:-//Ville de Quiévrechain - ECPv5.14.1//NONSGML v1.0//EN
CALSCALE:GREGORIAN
METHOD:PUBLISH
X-WR-CALNAME:Ville de Quiévrechain
X-ORIGINAL-URL:https://quievrechain.fr
X-WR-CALDESC:Events for Ville de Quiévrechain
REFRESH-INTERVAL;VALUE=DURATION:PT1H
X-Robots-Tag:noindex
X-PUBLISHED-TTL:PT1H
BEGIN:VTIMEZONE
TZID:Europe/Paris
BEGIN:DAYLIGHT
TZOFFSETFROM:+0100
TZOFFSETTO:+0200
TZNAME:CEST
DTSTART:20260329T010000
END:DAYLIGHT
BEGIN:STANDARD
TZOFFSETFROM:+0200
TZOFFSETTO:+0100
TZNAME:CET
DTSTART:20261025T010000
END:STANDARD
END:VTIMEZONE
BEGIN:VEVENT
DTSTART;TZID=Europe/Paris:20260604T090000
DTEND;TZID=Europe/Paris:20260604T190000
DTSTAMP:20260425T060621
CREATED:20260417T141832Z
LAST-MODIFIED:20260417T141832Z
UID:63043-1780563600-1780599600@quievrechain.fr
SUMMARY:[4 juin] Sortie à Pairi Daiza
DESCRIPTION:Le CCAS de Quievrechain organise une sortie à Pairi Daiza le jeudi 4 juin. \n👉 Pour les Quiévrechinois de 65 ans et +\n💶 Tarif : 30€\, comprenant : \n•L’entrée au parc\n•Un tour en petit train\n•Le repas\n•Le transport (départ 9h / retour 19h – Place Roger Salengro) \n⚠️ Places limitées à 50 personnes\n📅 Inscriptions au CCAS du 7 au 28 mai. Pièce d’identité + justificatif de domicile obligatoire pour chaque réservation.
URL:https://quievrechain.fr/event/4-juin-sortie-a-pairi-daiza/
LOCATION:Place Roger Salengro\, Place Roger Salengro\, Quiévrechain\, 59920\, France
CATEGORIES:Visite
ATTACH;FMTTYPE=image/jpeg:https://quievrechain.fr/wp-content/uploads/2026/04/Pairi-Diaza-Juin-2026-CCAS2-scaled.jpg
END:VEVENT
END:VCALENDAR