BEGIN:VCALENDAR
VERSION:2.0
PRODID:-//Ville de Quiévrechain - ECPv5.14.1//NONSGML v1.0//EN
CALSCALE:GREGORIAN
METHOD:PUBLISH
X-WR-CALNAME:Ville de Quiévrechain
X-ORIGINAL-URL:https://quievrechain.fr
X-WR-CALDESC:Events for Ville de Quiévrechain
REFRESH-INTERVAL;VALUE=DURATION:PT1H
X-Robots-Tag:noindex
X-PUBLISHED-TTL:PT1H
BEGIN:VTIMEZONE
TZID:Europe/Paris
BEGIN:DAYLIGHT
TZOFFSETFROM:+0100
TZOFFSETTO:+0200
TZNAME:CEST
DTSTART:20260329T010000
END:DAYLIGHT
BEGIN:STANDARD
TZOFFSETFROM:+0200
TZOFFSETTO:+0100
TZNAME:CET
DTSTART:20261025T010000
END:STANDARD
END:VTIMEZONE
BEGIN:VEVENT
DTSTART;VALUE=DATE:20260501
DTEND;VALUE=DATE:20260506
DTSTAMP:20260425T030327
CREATED:20260414T095528Z
LAST-MODIFIED:20260415T135335Z
UID:63001-1777593600-1778025599@quievrechain.fr
SUMMARY:[1 au 5 mai] Fête Foraine
DESCRIPTION:🎡✨ La fête foraine revient à Quiévrechain ! ✨🎡\n\n\n \n\n\nDu 1er au 5 mai\, direction la place Roger Salengro pour faire le plein de sensations\, de gourmandises et de bons moments en famille ou entre amis 🎠🍭\n\n\n \n\n\nAu programme : manèges\, jeux\, barbe à papa… et surtout de la bonne humeur !\n\n\n \n\n\nLes bons plans à ne pas manquer :\n\n\n👉 Vendredi 1er mai : 1 ticket acheté = 1 ticket offert*\n\n\n👉 Mardi 5 mai : tarifs réduits sur certains manèges*\n\n\n \n\n\n*Offres valables sur présentation du bon\n\n\n➡️ Disponible ici : https://quievrechain.fr/wp-content/uploads/2026/04/fete-foraine-mai-2026.pdf\n\n\n➡️ Aussi dans le magazine de la ville n°76 (mai-juin) et à l’accueil de la mairie
URL:https://quievrechain.fr/event/1-au-5-mai-fete-foraine/
LOCATION:Place Roger Salengro\, Place Roger Salengro\, Quiévrechain\, 59920\, France
CATEGORIES:Fête foraine
ATTACH;FMTTYPE=image/jpeg:https://quievrechain.fr/wp-content/uploads/2026/04/fete-foraine-mai-2026-1.jpg
END:VEVENT
BEGIN:VEVENT
DTSTART;VALUE=DATE:20260503
DTEND;VALUE=DATE:20260504
DTSTAMP:20260425T030327
CREATED:20260414T094212Z
LAST-MODIFIED:20260414T094212Z
UID:62995-1777766400-1777852799@quievrechain.fr
SUMMARY:[3 mai] Moules frites avec les pompiers de Quiévrechain
DESCRIPTION:L’Amicale des sapeurs-pompiers de Quiévrechain vous donne rendez-vous le dimanche 3 mai pour une vente de moules-frites\, juste devant le centre de secours.\n\n\n \n\n\nAu menu :\n\n\n👉 Moules-frites : 15€\n\n\n👉 Menu enfant (frites + fricadelle) : 6€\n\n\n \n\n\nService de 11h30 à 15h00.\n\n\n \n\n\nRéservation obligatoire :\n\n\n📞 En semaine après 17h00 ou le samedi\n\n\n📧 asp.quievrechain@yahoo.com\n\n\n✉️ Messenger: L’amicale des sapeurs-pompiers de Quiévrechain\n\n\n \n\n\nPaiement sur place (toute réservation vous engage). Ambiance conviviale garantie\, venez partager un bon moment avec vos pompiers.
URL:https://quievrechain.fr/event/3-mai-moules-frites-avec-les-pompiers-de-quievrechain/
LOCATION:Place Roger Salengro\, Place Roger Salengro\, Quiévrechain\, 59920\, France
CATEGORIES:Festivités
ATTACH;FMTTYPE=image/jpeg:https://quievrechain.fr/wp-content/uploads/2026/04/QcE5EBb3.jpg
END:VEVENT
BEGIN:VEVENT
DTSTART;VALUE=DATE:20260503
DTEND;VALUE=DATE:20260504
DTSTAMP:20260425T030327
CREATED:20260417T130839Z
LAST-MODIFIED:20260417T130839Z
UID:63017-1777766400-1777852799@quievrechain.fr
SUMMARY:[3 mai] Brocante du CAOB à Quiévrechain
DESCRIPTION:Rendez-vous le dimanche 3 mai\, de 8h à 18h\, en centre-ville pour la traditionnelle brocante !\n \nOrganisée par l’association du CAOB\, c’est l’occasion parfaite pour chiner des trésors\, faire de bonnes affaires et profiter d’un moment convivial en famille ou entre amis ☀️\n \n📍 Nouveauté cette année : parcours modifié ! Retrouvez les exposants rue Valériani (jusqu’au stade de la Mine)\, rue de la Mine\, place Roger Salengro\, rues Henri Leblanc\, Guy Morelle et Jean Mermoz.\n \nUne belle journée en perspective pour les amateurs de bonnes trouvailles ! 😉
URL:https://quievrechain.fr/event/3-mai-brocante-du-caob-a-quievrechain/
LOCATION:Place Roger Salengro\, Place Roger Salengro\, Quiévrechain\, 59920\, France
CATEGORIES:Brocante
ATTACH;FMTTYPE=image/jpeg:https://quievrechain.fr/wp-content/uploads/2026/03/Brocante-CAOB-2026-scaled.jpg
END:VEVENT
END:VCALENDAR