BEGIN:VCALENDAR
VERSION:2.0
PRODID:-//Ville de Quiévrechain - ECPv5.14.1//NONSGML v1.0//EN
CALSCALE:GREGORIAN
METHOD:PUBLISH
X-WR-CALNAME:Ville de Quiévrechain
X-ORIGINAL-URL:https://quievrechain.fr
X-WR-CALDESC:Events for Ville de Quiévrechain
REFRESH-INTERVAL;VALUE=DURATION:PT1H
X-Robots-Tag:noindex
X-PUBLISHED-TTL:PT1H
BEGIN:VTIMEZONE
TZID:Europe/Paris
BEGIN:DAYLIGHT
TZOFFSETFROM:+0100
TZOFFSETTO:+0200
TZNAME:CEST
DTSTART:20250330T010000
END:DAYLIGHT
BEGIN:STANDARD
TZOFFSETFROM:+0200
TZOFFSETTO:+0100
TZNAME:CET
DTSTART:20251026T010000
END:STANDARD
END:VTIMEZONE
BEGIN:VEVENT
DTSTART;VALUE=DATE:20251018
DTEND;VALUE=DATE:20251027
DTSTAMP:20260425T123825
CREATED:20251014T134218Z
LAST-MODIFIED:20251014T134218Z
UID:62144-1760745600-1761523199@quievrechain.fr
SUMMARY:[18 au 26 octobre] Fête foraine
DESCRIPTION:Ce samedi 18 octobre\, c’est le retour de la fête foraine à Quiévrechain. Jusqu’au 26 octobre\, place Roger Salengro\, venez vous amuser 🎃👻\n\n\n \n\n\n👉Samedi 18 : 1 ticket acheté = 1 ticket gratuit (sur présentation du bon correspondant à télécharger ici : https://quievrechain.fr/wp-content/uploads/2025/10/Tickets-samedi181025.pdf)\n\n\n👉Mercredi 22 : Tarifs réduits sur tous les manèges (sur présentation du bon correspondant à télécharger ici : https://quievrechain.fr/wp-content/uploads/2025/10/tarifsreduits2025octobre.pdf )\n\n\n👉Samedi 26 : Après midi Halloween (manèges à tarifs exceptionnels pour tous les enfants (-12 ans) déguisés) : inscription de 15h à 17h3 sur le podium avec la participation du COAB (remise d’une surprise)\n\n\n👉Dimanche 27 : Tombola\, tirage à 19h avec la participation du CAOB.
URL:https://quievrechain.fr/event/18-au-26-octobre-fete-foraine/
LOCATION:Place Roger Salengro\, Place Roger Salengro\, Quiévrechain\, 59920\, France
CATEGORIES:Fête foraine
ATTACH;FMTTYPE=image/jpeg:https://quievrechain.fr/wp-content/uploads/2025/10/2025-10-07-Fete-foraine-scaled.jpg
END:VEVENT
BEGIN:VEVENT
DTSTART;VALUE=DATE:20251020
DTEND;VALUE=DATE:20251025
DTSTAMP:20260425T123825
CREATED:20250903T080658Z
LAST-MODIFIED:20250904T092154Z
UID:61945-1760918400-1761350399@quievrechain.fr
SUMMARY:[20 au 24 octobre] Accueil de Loisirs
DESCRIPTION:👻🕵️‍♂️ Scooby-Doo débarque à Quiévrechain !\n\n\nDu 20 au 24 octobre 2025\, le Service Enfance Jeunesse embarque vos enfants pour des vacances d’automne 100% mystères et frissons.\n\n\n \n\n\nAu programme :\n\n\n🔎 Enquêtes palpitantes avec Fred\, Daphné\, Véra\, Sammy et Scooby\n\n\n🎭 Déguisements & jeux d’indices\n\n\n🎨 Ateliers créatifs\n\n\n🍪 Scooby Snacks à gogo !\n\n\n \n\n\n📅 Inscriptions du 15 au 26 septembre inclus\, uniquement en ligne sur myperischool.\n\n\nNe laissez pas le fantôme vous filer entre les doigts… 🕯️
URL:https://quievrechain.fr/event/20-au-24-octobre-accueil-de-loisirs/
LOCATION:Espace Enfance Jeunesse
CATEGORIES:Jeunesse
ATTACH;FMTTYPE=image/jpeg:https://quievrechain.fr/wp-content/uploads/2025/09/2.jpg
END:VEVENT
BEGIN:VEVENT
DTSTART;TZID=Europe/Paris:20251022T140000
DTEND;TZID=Europe/Paris:20251026T160000
DTSTAMP:20260425T123825
CREATED:20250903T121155Z
LAST-MODIFIED:20251008T080715Z
UID:61950-1761141600-1761494400@quievrechain.fr
SUMMARY:[22 octobre] Festival Live entre les livres
DESCRIPTION:✨ Festival Live entre les livres ✨\n\n\n \n\n\nRendez-vous le mercredi 22 octobre à 14h pour une expérience unique : une sieste électro-gnaoua proposée par l’artiste Omar Ek\, produit par l’association DYNAMO à la bibliothèque de Quiévrechain.\n\n\n \n\n\n👉 Originaire de Casablanca\, Omar EK mêle électro et influences arabo-africaines pour réinventer le patrimoine musical du continent.\n\n\n \n\n\n⚠️ Les places étant limitées\, l’événement se fera uniquement sur inscription au 03 27 24 26 74 ou en bibliothèque.\n\n\n \n\n\nNe manquez pas cette parenthèse musicale hors du temps 🌍🎶
URL:https://quievrechain.fr/event/22-octobre-festival-live-entre-les-livres/
LOCATION:Bibliotheque
CATEGORIES:Culture
ATTACH;FMTTYPE=image/jpeg:https://quievrechain.fr/wp-content/uploads/2025/10/live-entre-les-livres-copie-scaled.jpg
END:VEVENT
BEGIN:VEVENT
DTSTART;VALUE=DATE:20251024
DTEND;VALUE=DATE:20251026
DTSTAMP:20260425T123825
CREATED:20251016T162247Z
LAST-MODIFIED:20251016T162247Z
UID:62161-1761264000-1761436799@quievrechain.fr
SUMMARY:[24 et 25 octobre] Escape Game Spécial Halloween
DESCRIPTION:🎃 Escape Game Spécial Halloween 👻\n\n\n \n\n\nOserez-vous relever le défi ? Le service Enfance Jeunesse vous invite à plonger dans une aventure terrifiante les 24 octobre (14h-20h) et 25 octobre (13h-17h) à l’Espace Enfance Jeunesse !\n\n\n \n\n\nAu programme : énigmes\, frissons et ambiance d’Halloween garantie 🕷️🕸️\n\n\n👉 À partir de 8 ans\n\n\n💀 Entrée : 2 €\n\n\n📝 Sur inscription avant le 22 octobre\n\n\n🍬 Vente de gâteaux\, bonbons et boissons sur place pour les plus courageux !\n\n\n \n\n\nRassemble ton équipe et viens affronter les mystères de l’Escape Game… si tu n’as pas peur ! 😈
URL:https://quievrechain.fr/event/24-et-25-octobre-escape-game-special-halloween/
LOCATION:Espace Enfance Jeunesse
CATEGORIES:Jeunesse
ATTACH;FMTTYPE=image/jpeg:https://quievrechain.fr/wp-content/uploads/2025/10/2025-09-30-affiche-escape-game-halloween-scaled.jpg
END:VEVENT
END:VCALENDAR