BEGIN:VCALENDAR
VERSION:2.0
PRODID:-//Ville de Quiévrechain - ECPv5.14.1//NONSGML v1.0//EN
CALSCALE:GREGORIAN
METHOD:PUBLISH
X-WR-CALNAME:Ville de Quiévrechain
X-ORIGINAL-URL:https://quievrechain.fr
X-WR-CALDESC:Events for Ville de Quiévrechain
REFRESH-INTERVAL;VALUE=DURATION:PT1H
X-Robots-Tag:noindex
X-PUBLISHED-TTL:PT1H
BEGIN:VTIMEZONE
TZID:Europe/Paris
BEGIN:DAYLIGHT
TZOFFSETFROM:+0100
TZOFFSETTO:+0200
TZNAME:CEST
DTSTART:20250330T010000
END:DAYLIGHT
BEGIN:STANDARD
TZOFFSETFROM:+0200
TZOFFSETTO:+0100
TZNAME:CET
DTSTART:20251026T010000
END:STANDARD
END:VTIMEZONE
BEGIN:VEVENT
DTSTART;TZID=Europe/Paris:20250713T130000
DTEND;TZID=Europe/Paris:20250714T190000
DTSTAMP:20260425T171051
CREATED:20250605T094201Z
LAST-MODIFIED:20250714T163907Z
UID:61574-1752411600-1752519600@quievrechain.fr
SUMMARY:[13 & 14 juillet] Nos Quartiers d'été 2025
DESCRIPTION:🌞🎉 Nos Quartiers d’Été reviennent à Quiévrechain !Rendez-vous les 13 & 14 juillet de 13h à 19h au Parc de l’Aunelle pour deux après-midis pleins de fun et d’animations gratuites pour toute la famille ! 🤩 \n\n\n\n\n\n\n\n\n Le 13 juillet :\n\n\n– Spectacle de marionnettes « La Montagne Noire » (15h & 17h) – dès 2 ans\, sur le thème de la nature\n– Démonstrations et initiations de danse\, à 15h\, 16h et 17h\n– Déambulations burlesques de clowns de 16h à 18h\n \n\n\n Le 14 juillet :\n\n\n– Puzzle géant à colorier\, créé collectivement par les enfants\n– Soirée années 80/90 avec « Just Party » dès 20h\, toujours au parc de l’Aunelle\, pour clôturer ces festivités !\n \n\n\n Présents en continu les 13 & 14 juillet :\nFerme pédagogique\, maquillage\, trampolines élastiques\, jeux en bois\, bassins\, structures gonflables\, canoë-kayak\, cheval fou\, sumo\, jeu « la balayette »\, atelier créatif recyclé\, foodtrucks salé et sucré\, ambiance musicale… et des surprises !\n \n\n\n C’est gratuit\, festif et ouvert à tous. On vous attend nombreux !
URL:https://quievrechain.fr/event/13-14-juillet-nos-quartiers-dete-2025/
LOCATION:Parc de l’Aunelle\, Rue de l'Abattoir\, Quiévrechain\, France
CATEGORIES:Festivités
ATTACH;FMTTYPE=image/png:https://quievrechain.fr/wp-content/uploads/2025/06/1-scaled.png
END:VEVENT
END:VCALENDAR