BEGIN:VCALENDAR
VERSION:2.0
PRODID:-//Ville de Quiévrechain - ECPv5.14.1//NONSGML v1.0//EN
CALSCALE:GREGORIAN
METHOD:PUBLISH
X-WR-CALNAME:Ville de Quiévrechain
X-ORIGINAL-URL:https://quievrechain.fr
X-WR-CALDESC:Events for Ville de Quiévrechain
REFRESH-INTERVAL;VALUE=DURATION:PT1H
X-Robots-Tag:noindex
X-PUBLISHED-TTL:PT1H
BEGIN:VTIMEZONE
TZID:Europe/Paris
BEGIN:DAYLIGHT
TZOFFSETFROM:+0100
TZOFFSETTO:+0200
TZNAME:CEST
DTSTART:20250330T010000
END:DAYLIGHT
BEGIN:STANDARD
TZOFFSETFROM:+0200
TZOFFSETTO:+0100
TZNAME:CET
DTSTART:20251026T010000
END:STANDARD
END:VTIMEZONE
BEGIN:VEVENT
DTSTART;TZID=Europe/Paris:20250705T140000
DTEND;TZID=Europe/Paris:20250705T170000
DTSTAMP:20260425T172800
CREATED:20250630T131016Z
LAST-MODIFIED:20250630T131016Z
UID:61760-1751724000-1751734800@quievrechain.fr
SUMMARY:[5 juillet] Les dinosaures s'invitent à table
DESCRIPTION:🦖✨ Les dinosaures s’invitent à table ! 🦖✨\n\n\n \n\n\nSamedi 5 juillet 2025\, venez vivre un après-midi ludique et coloré avec vos enfants (de 3 à 6 ans) à la Ludothèque de Quiévrechain ! 🏞️\n\n\n \n\n\n🕑 De 14h à 17h\n\n\n📍 Ludothèque – Espace Enfance Jeunesse\, rue de la Mine\n\n\n \n\n\nAu programme :\n\n\n🎨 Activités manuelles et jeux de société\n\n\nUn moment fun et éducatif à partager en famille ! 👨‍👩‍👧‍👦\n\n\n \n\n\nInscriptions à la Ludothèque au 07 87 83 67 06.
URL:https://quievrechain.fr/event/5-juillet-les-dinosaures-sinvitent-a-table/
LOCATION:Espace Enfance Jeunesse
CATEGORIES:Jeunesse
ATTACH;FMTTYPE=image/jpeg:https://quievrechain.fr/wp-content/uploads/2025/06/Ludotheque-Les-dinosaures-sinvitent-a-table.jpg
END:VEVENT
END:VCALENDAR