BEGIN:VCALENDAR
VERSION:2.0
PRODID:-//Ville de Quiévrechain - ECPv5.14.1//NONSGML v1.0//EN
CALSCALE:GREGORIAN
METHOD:PUBLISH
X-WR-CALNAME:Ville de Quiévrechain
X-ORIGINAL-URL:https://quievrechain.fr
X-WR-CALDESC:Events for Ville de Quiévrechain
REFRESH-INTERVAL;VALUE=DURATION:PT1H
X-Robots-Tag:noindex
X-PUBLISHED-TTL:PT1H
BEGIN:VTIMEZONE
TZID:Europe/Paris
BEGIN:DAYLIGHT
TZOFFSETFROM:+0100
TZOFFSETTO:+0200
TZNAME:CEST
DTSTART:20250330T010000
END:DAYLIGHT
BEGIN:STANDARD
TZOFFSETFROM:+0200
TZOFFSETTO:+0100
TZNAME:CET
DTSTART:20251026T010000
END:STANDARD
END:VTIMEZONE
BEGIN:VEVENT
DTSTART;TZID=Europe/Paris:20250630T113000
DTEND;TZID=Europe/Paris:20250704T133000
DTSTAMP:20260425T172800
CREATED:20250605T094800Z
LAST-MODIFIED:20250605T095152Z
UID:61585-1751283000-1751635800@quievrechain.fr
SUMMARY:[30 juin] Participez au repas intergénérationnel de fin d'année scolaire !
DESCRIPTION:🍽️🌿 Repas Intergénérationnel – Lundi 30 juin 2025 à Quiévrechain ! \nVous avez 65 ans ou plus ? Ne manquez pas ce moment chaleureux et convivial organisé par le CCAS de Quiévrechain ! \n🗓 Date : Lundi 30 juin 2025\nTarif : 4\,50 € le repas\nLieu : Service restauration scolaire\nInscription obligatoire avant le 26 juin 2025 \n👵👴 Une belle occasion de partager un bon repas et de créer des liens entre générations ! \n🍽 Au menu :\nChou-fleur\, sauce cocktail\nSauté de bœuf Marengo & riz bio\nYaourt nature sucré \n🚐 Besoin d’aide pour vous déplacer ? Un transport et l’assistance d’un(e) auxiliaire de vie peuvent être mis à disposition selon votre état de santé. \n📞 Infos & inscriptions : 03 27 45 42 24
URL:https://quievrechain.fr/event/30-juin-participez-au-repas-intergenerationnel-de-fin-dannee-scolaire/
LOCATION:Ancien collège\, 9 rue des champs\, Quiévrechain\, 59920\, France
CATEGORIES:Jeunesse
ATTACH;FMTTYPE=image/jpeg:https://quievrechain.fr/wp-content/uploads/2025/06/Menu-intergenerationnel-juin-2025.jpg
END:VEVENT
END:VCALENDAR