BEGIN:VCALENDAR
VERSION:2.0
PRODID:-//Ville de Quiévrechain - ECPv5.14.1//NONSGML v1.0//EN
CALSCALE:GREGORIAN
METHOD:PUBLISH
X-WR-CALNAME:Ville de Quiévrechain
X-ORIGINAL-URL:https://quievrechain.fr
X-WR-CALDESC:Events for Ville de Quiévrechain
REFRESH-INTERVAL;VALUE=DURATION:PT1H
X-Robots-Tag:noindex
X-PUBLISHED-TTL:PT1H
BEGIN:VTIMEZONE
TZID:Europe/Paris
BEGIN:DAYLIGHT
TZOFFSETFROM:+0100
TZOFFSETTO:+0200
TZNAME:CEST
DTSTART:20250330T010000
END:DAYLIGHT
BEGIN:STANDARD
TZOFFSETFROM:+0200
TZOFFSETTO:+0100
TZNAME:CET
DTSTART:20251026T010000
END:STANDARD
END:VTIMEZONE
BEGIN:VEVENT
DTSTART;TZID=Europe/Paris:20250618T100000
DTEND;TZID=Europe/Paris:20250618T110000
DTSTAMP:20260425T185203
CREATED:20250505T092153Z
LAST-MODIFIED:20250505T092153Z
UID:61426-1750240800-1750244400@quievrechain.fr
SUMMARY:[18 juin] Ateliers informatiques pour les 55 ans et + !
DESCRIPTION:💻 Ateliers informatiques pour les 55 ans et + à Quiévrechain ! 📱 \nVous souhaitez mieux comprendre et utiliser les outils informatiques ?Participez à nos ateliers gratuits organisés spécialement pour vous ! \n📅 Les mercredis 4\, 11\, 18 et 25 juin🕙 De 10h à 11h📍 À Quiévrechain \nCes ateliers sont destinés aux personnes de 55 ans et plus qui souhaitent se sentir plus à l’aise avec l’informatique au quotidien. \n📞 Inscription obligatoire auprès du CCAS : 03 27 45 42 24 \n👉 Places limitées\, ne tardez pas à vous inscrire !
URL:https://quievrechain.fr/event/18-juin-ateliers-informatiques-pour-les-55-ans-et/
LOCATION:Hotel de Ville\, Place Roger Salengro\, Quiévrechain\, France
CATEGORIES:Quotidien
ATTACH;FMTTYPE=image/jpeg:https://quievrechain.fr/wp-content/uploads/2025/05/ateliers-informatiques.jpg
END:VEVENT
BEGIN:VEVENT
DTSTART;TZID=Europe/Paris:20250618T140000
DTEND;TZID=Europe/Paris:20250618T150000
DTSTAMP:20260425T185203
CREATED:20250528T094536Z
LAST-MODIFIED:20250528T094536Z
UID:61547-1750255200-1750258800@quievrechain.fr
SUMMARY:[18 juin] Partir en Livre
DESCRIPTION:📚✨ Partir en Livre à Quiévrechain ! ✨📚\nRendez-vous mercredi 18 juin 2025 à 14h à la bibliothèque de Quiévrechain pour un après-midi magique autour du thème « Les animaux et nous » 🐾 ! \n📖 Au programme :\nLecture d’histoires captivantes\, dont la nouvelle édition du Petit Prince\nSuivie d’un atelier bricolage créatif \n👧🧒 Activité destinée aux enfants de 4 à 8 ans\nSur réservation uniquement (places limitées)\nRéservez vite au 03 27 24 26 74 \nUn moment de partage\, de découverte et d’imagination à ne pas manquer !
URL:https://quievrechain.fr/event/18-juin-partir-en-livre/
LOCATION:Bibliotheque
CATEGORIES:Culture
ATTACH;FMTTYPE=image/jpeg:https://quievrechain.fr/wp-content/uploads/2025/05/Partir-en-livre.jpg
END:VEVENT
BEGIN:VEVENT
DTSTART;TZID=Europe/Paris:20250618T183000
DTEND;TZID=Europe/Paris:20250618T190000
DTSTAMP:20260425T185203
CREATED:20250605T095613Z
LAST-MODIFIED:20250616T092402Z
UID:61589-1750271400-1750273200@quievrechain.fr
SUMMARY:[18 Juin] Commémoration des passeurs d'hommes
DESCRIPTION:🇫🇷 Commémoration de l’Appel du 18 Juin 🇫🇷 \nLa Ville de Quiévrechain vous invite à rendre hommage à l’Appel historique du 18 juin 1940 lancé par le Général de Gaulle. \n  \n📍 Rendez-vous à 18h30 au monument des Passeurs d’Hommes \nPuis à 19h au Square Général de Gaulle \nLa cérémonie sera suivie par un pot de l’amitié\, à la salle des fêtes. \n  \nLors de cette cérémonie\, nous rendrons également hommage aux passeurs d’hommes\, ces héros de l’ombre qui ont permis à tant de personnes de retrouver la liberté. \nEnsemble\, perpétuons le devoir de mémoire.
URL:https://quievrechain.fr/event/18-juin-commemoration-des-passeurs-dhommes-et-inauguration-du-square-du-general-de-gaulle-2/
CATEGORIES:Cérémonie
ATTACH;FMTTYPE=image/png:https://quievrechain.fr/wp-content/uploads/2025/06/Appel-du-18-juin.png
END:VEVENT
END:VCALENDAR