BEGIN:VCALENDAR
VERSION:2.0
PRODID:-//Ville de Quiévrechain - ECPv5.14.1//NONSGML v1.0//EN
CALSCALE:GREGORIAN
METHOD:PUBLISH
X-WR-CALNAME:Ville de Quiévrechain
X-ORIGINAL-URL:https://quievrechain.fr
X-WR-CALDESC:Events for Ville de Quiévrechain
REFRESH-INTERVAL;VALUE=DURATION:PT1H
X-Robots-Tag:noindex
X-PUBLISHED-TTL:PT1H
BEGIN:VTIMEZONE
TZID:Europe/Paris
BEGIN:DAYLIGHT
TZOFFSETFROM:+0100
TZOFFSETTO:+0200
TZNAME:CEST
DTSTART:20250330T010000
END:DAYLIGHT
BEGIN:STANDARD
TZOFFSETFROM:+0200
TZOFFSETTO:+0100
TZNAME:CET
DTSTART:20251026T010000
END:STANDARD
END:VTIMEZONE
BEGIN:VEVENT
DTSTART;TZID=Europe/Paris:20250607T190000
DTEND;TZID=Europe/Paris:20250607T223000
DTSTAMP:20260425T185135
CREATED:20250521T120804Z
LAST-MODIFIED:20250521T120804Z
UID:61482-1749322800-1749335400@quievrechain.fr
SUMMARY:[7 juin] Gala annuel OCNS
DESCRIPTION:🎉 Gala annuel de Natation Artistique – OCNS 🎉 \nL’OCNS vous donne rendez-vous pour son grand Gala annuel le samedi 7 juin 2025 à l’Aqua Centre de l’Aunelle à Quiévrechain ! 💦✨ \n🕢 Ouverture des portes à 19h🏊‍♀️ Début du spectacle à 20h30🎟️ Entrée : 3€🍟 Friterie et bar sur place \nVenez découvrir des chorégraphies aquatiques spectaculaires dans une ambiance festive et conviviale !
URL:https://quievrechain.fr/event/7-juin-gala-annuel-ocns/
LOCATION:Aqua Centre de l’Aunelle\, 117 rue Jean Mermoz\, Quiévrechain\, 59920
CATEGORIES:Sports
ATTACH;FMTTYPE=image/jpeg:https://quievrechain.fr/wp-content/uploads/2025/05/gala-OCNS-2025.jpg
END:VEVENT
BEGIN:VEVENT
DTSTART;TZID=Europe/Paris:20250607T193000
DTEND;TZID=Europe/Paris:20250607T213000
DTSTAMP:20260425T185135
CREATED:20250513T122008Z
LAST-MODIFIED:20250513T122008Z
UID:61455-1749324600-1749331800@quievrechain.fr
SUMMARY:[7 juin] Spectacle musical
DESCRIPTION:🎶 Spectacle musical à ne pas manquer ! 🎤\n\n\n \n\n\nL’École municipale de musique de Quiévrechain vous donne rendez-vous le samedi 7 juin dès 19h30 à la salle des fêtes pour un voyage musical dans les années 70′ ! 🌟\n\n\nAu programme : groove\, disco\, paillettes et bonne humeur 🎷🕺\n\n\n \n\n\n👉 Entrée gratuite\n\n\n🍴 Buvette et petite restauration sur place pour profiter pleinement de la soirée !\n\n\n \n\n\nVenez nombreux pour une soirée pleine de rythmes et de souvenirs ! 💃✨
URL:https://quievrechain.fr/event/7-juin-spectacle-musical/
LOCATION:Salle des fêtes\, Place Roger Salengro\, Quiévrechain\, France
CATEGORIES:Culture
ATTACH;FMTTYPE=image/png:https://quievrechain.fr/wp-content/uploads/2025/05/Comedie-musicale-20251-scaled.png
END:VEVENT
END:VCALENDAR