BEGIN:VCALENDAR
VERSION:2.0
PRODID:-//Ville de Quiévrechain - ECPv5.14.1//NONSGML v1.0//EN
CALSCALE:GREGORIAN
METHOD:PUBLISH
X-WR-CALNAME:Ville de Quiévrechain
X-ORIGINAL-URL:https://quievrechain.fr
X-WR-CALDESC:Events for Ville de Quiévrechain
REFRESH-INTERVAL;VALUE=DURATION:PT1H
X-Robots-Tag:noindex
X-PUBLISHED-TTL:PT1H
BEGIN:VTIMEZONE
TZID:Europe/Paris
BEGIN:DAYLIGHT
TZOFFSETFROM:+0100
TZOFFSETTO:+0200
TZNAME:CEST
DTSTART:20250330T010000
END:DAYLIGHT
BEGIN:STANDARD
TZOFFSETFROM:+0200
TZOFFSETTO:+0100
TZNAME:CET
DTSTART:20251026T010000
END:STANDARD
END:VTIMEZONE
BEGIN:VEVENT
DTSTART;VALUE=DATE:20250503
DTEND;VALUE=DATE:20250507
DTSTAMP:20260425T201500
CREATED:20250425T092513Z
LAST-MODIFIED:20250429T151553Z
UID:61328-1746230400-1746575999@quievrechain.fr
SUMMARY:[3-6 mai] Fête foraine
DESCRIPTION:🎡🎉 La fête foraine revient à Quiévrechain ! 🎉🎡 \nDu 3 au 6 mai inclus\, venez profiter de l’ambiance festive en famille ou entre amis : manèges\, confiseries\, animations et bonne humeur seront au rendez-vous ! 🍭🎠 \nN’oubliez pas de retirer vos tickets de réduction pour le samedi et le mardi\, à l’accueil de la mairie 🎈 \nNe manquez pas cet événement incontournable pour petits et grands !
URL:https://quievrechain.fr/event/3-6-mai-fete-foraine/
LOCATION:Place Roger Salengro\, Place Roger Salengro\, Quiévrechain\, 59920\, France
CATEGORIES:Fête foraine
ATTACH;FMTTYPE=image/jpeg:https://quievrechain.fr/wp-content/uploads/2025/04/fete-foraine-mai-2025-2.jpg
END:VEVENT
END:VCALENDAR