BEGIN:VCALENDAR
VERSION:2.0
PRODID:-//Ville de Quiévrechain - ECPv5.14.1//NONSGML v1.0//EN
CALSCALE:GREGORIAN
METHOD:PUBLISH
X-WR-CALNAME:Ville de Quiévrechain
X-ORIGINAL-URL:https://quievrechain.fr
X-WR-CALDESC:Events for Ville de Quiévrechain
REFRESH-INTERVAL;VALUE=DURATION:PT1H
X-Robots-Tag:noindex
X-PUBLISHED-TTL:PT1H
BEGIN:VTIMEZONE
TZID:Europe/Paris
BEGIN:DAYLIGHT
TZOFFSETFROM:+0100
TZOFFSETTO:+0200
TZNAME:CEST
DTSTART:20250330T010000
END:DAYLIGHT
BEGIN:STANDARD
TZOFFSETFROM:+0200
TZOFFSETTO:+0100
TZNAME:CET
DTSTART:20251026T010000
END:STANDARD
END:VTIMEZONE
BEGIN:VEVENT
DTSTART;TZID=Europe/Paris:20250329T200000
DTEND;TZID=Europe/Paris:20250329T220000
DTSTAMP:20260425T225521
CREATED:20250218T141724Z
LAST-MODIFIED:20250328T160817Z
UID:61014-1743278400-1743285600@quievrechain.fr
SUMMARY:[29 mars] Concert Folk Irlandais à Quiévrechain
DESCRIPTION:La ville de Quiévrechain vous invite à une soirée aux couleurs de l’Irlande avec The Britches ! 🇮🇪🎻 \n📅 Samedi 29 mars🕗 Dès 20h📍 Salle des fêtes🎟 Entrée gratuite \n🍻 Buvette et petite restauration sur place🟢 Venez fêter la Saint-Patrick habillés de vert ! \nAmbiance festive garantie\, on vous attend nombreux ! 🍀🎶✨
URL:https://quievrechain.fr/event/29-mars-concert-folk-irlandais-a-quievrechain/
LOCATION:Salle des fêtes\, Place Roger Salengro\, Quiévrechain\, France
CATEGORIES:Jeunesse
ATTACH;FMTTYPE=image/jpeg:https://quievrechain.fr/wp-content/uploads/2025/02/Concert-Folk.jpg
END:VEVENT
END:VCALENDAR