BEGIN:VCALENDAR
VERSION:2.0
PRODID:-//Ville de Quiévrechain - ECPv5.14.1//NONSGML v1.0//EN
CALSCALE:GREGORIAN
METHOD:PUBLISH
X-WR-CALNAME:Ville de Quiévrechain
X-ORIGINAL-URL:https://quievrechain.fr
X-WR-CALDESC:Events for Ville de Quiévrechain
REFRESH-INTERVAL;VALUE=DURATION:PT1H
X-Robots-Tag:noindex
X-PUBLISHED-TTL:PT1H
BEGIN:VTIMEZONE
TZID:Europe/Paris
BEGIN:DAYLIGHT
TZOFFSETFROM:+0100
TZOFFSETTO:+0200
TZNAME:CEST
DTSTART:20250330T010000
END:DAYLIGHT
BEGIN:STANDARD
TZOFFSETFROM:+0200
TZOFFSETTO:+0100
TZNAME:CET
DTSTART:20251026T010000
END:STANDARD
END:VTIMEZONE
BEGIN:VEVENT
DTSTART;TZID=Europe/Paris:20250303T090000
DTEND;TZID=Europe/Paris:20250303T220000
DTSTAMP:20260425T225656
CREATED:20250210T180030Z
LAST-MODIFIED:20250207T131758Z
UID:60993-1740992400-1741039200@quievrechain.fr
SUMMARY:[3 mars] Carnaval de Merzenich
DESCRIPTION:🎭 Carnaval de Merzenich : en route pour la fête ! 🎭\n\n\n \n\n\nLa ville de Quiévrechain vous propose une sortie au Carnaval de Merzenich ! 🥳🎉\n\n\n \n\n\n📅 Lundi 3 mars\n\n\n🚌 Départ à 9h – Retour à 22h (Place Roger Salengro)\n\n\n🎬 Thème : Personnages de films ou séries\n\n\n \n\n\n💰 Tarifs :\n\n\n➡️ 12 € pour les Quiévrechinois\n\n\n➡️ 20 € pour les extérieurs\n\n\n➡️ 5 € pour les moins de 12 ans\n\n\n \n\n\n📌 Priorité aux Quiévrechinois – Réservations en Mairie dès le 12 février !\n\n\n \n\n\nVenez défiler et faire la fête dans une ambiance unique ! 🎭✨
URL:https://quievrechain.fr/event/3-mars-carnaval-de-merzenich/
LOCATION:Place Roger Salengro\, Place Roger Salengro\, Quiévrechain\, 59920\, France
CATEGORIES:Festivités
ATTACH;FMTTYPE=image/jpeg:https://quievrechain.fr/wp-content/uploads/2025/02/carnaval-merzenich-2025.jpg
END:VEVENT
END:VCALENDAR