BEGIN:VCALENDAR
VERSION:2.0
PRODID:-//Ville de Quiévrechain - ECPv5.14.1//NONSGML v1.0//EN
CALSCALE:GREGORIAN
METHOD:PUBLISH
X-WR-CALNAME:Ville de Quiévrechain
X-ORIGINAL-URL:https://quievrechain.fr
X-WR-CALDESC:Events for Ville de Quiévrechain
REFRESH-INTERVAL;VALUE=DURATION:PT1H
X-Robots-Tag:noindex
X-PUBLISHED-TTL:PT1H
BEGIN:VTIMEZONE
TZID:Europe/Paris
BEGIN:DAYLIGHT
TZOFFSETFROM:+0100
TZOFFSETTO:+0200
TZNAME:CEST
DTSTART:20250330T010000
END:DAYLIGHT
BEGIN:STANDARD
TZOFFSETFROM:+0200
TZOFFSETTO:+0100
TZNAME:CET
DTSTART:20251026T010000
END:STANDARD
END:VTIMEZONE
BEGIN:VEVENT
DTSTART;TZID=Europe/Paris:20250301T183000
DTEND;TZID=Europe/Paris:20250301T203000
DTSTAMP:20260425T225614
CREATED:20250214T150157Z
LAST-MODIFIED:20250214T150157Z
UID:61009-1740853800-1740861000@quievrechain.fr
SUMMARY:[1er mars] Concert ciné
DESCRIPTION:Plongez au cœur des plus grandes musiques de films avec l’Aunelle Orchestra et Les amis réunis de La Sentinelle\, à la salle des fêtes de Quiévrechain ! 🎺🎷 \nUn concert unique avec projection ! Pendant que l’orchestre jouera en live\, un écran diffusera en arrière-plan les scènes des films correspondants pour une immersion totale ! 🎬 \nAu programme : Les plus belles musiques de Star Wars\, Transformers\, Ratatouille\, Black Panther\, Aladdin\, Pirates des Caraïbes et bien d’autres… Ambiance cinéma garantie ! \nPetite buvette et restauration avec pop-corn et barbe à papa\, et d’autres ! \n📅 Date : 1er mars 2025 à 18h30\n📍 Lieu : Salle des fêtes\n💰 Entrée : Gratuite \nVenez vivre un moment magique où musique et cinéma se rencontrent 🎶✨
URL:https://quievrechain.fr/event/1er-mars-concert-cine/
LOCATION:Salle des fêtes\, Place Roger Salengro\, Quiévrechain\, France
CATEGORIES:Festivités
ATTACH;FMTTYPE=image/jpeg:https://quievrechain.fr/wp-content/uploads/2025/02/concert-cine-mars-2025.jpg
END:VEVENT
END:VCALENDAR