BEGIN:VCALENDAR
VERSION:2.0
PRODID:-//Ville de Quiévrechain - ECPv5.14.1//NONSGML v1.0//EN
CALSCALE:GREGORIAN
METHOD:PUBLISH
X-WR-CALNAME:Ville de Quiévrechain
X-ORIGINAL-URL:https://quievrechain.fr
X-WR-CALDESC:Events for Ville de Quiévrechain
REFRESH-INTERVAL;VALUE=DURATION:PT1H
X-Robots-Tag:noindex
X-PUBLISHED-TTL:PT1H
BEGIN:VTIMEZONE
TZID:Europe/Paris
BEGIN:DAYLIGHT
TZOFFSETFROM:+0100
TZOFFSETTO:+0200
TZNAME:CEST
DTSTART:20250330T010000
END:DAYLIGHT
BEGIN:STANDARD
TZOFFSETFROM:+0200
TZOFFSETTO:+0100
TZNAME:CET
DTSTART:20251026T010000
END:STANDARD
END:VTIMEZONE
BEGIN:VEVENT
DTSTART;TZID=Europe/Paris:20250125T200000
DTEND;TZID=Europe/Paris:20250125T233000
DTSTAMP:20260426T033055
CREATED:20241127T180005Z
LAST-MODIFIED:20250121T190033Z
UID:60659-1737835200-1737847800@quievrechain.fr
SUMMARY:[25 janvier] COMPLET - Orchestre Kubiak
DESCRIPTION:CONCERT COMPLET \n🎶 L’orchestre Kubiak est de retour ! 🎶 \nRendez-vous ce samedi 25 janvier 2025 à 20h au complexe sportif de la Corderie de Quiévrechain pour une soirée festive et inoubliable avec l’orchestre Kubiak ! 🎉 \n🎟️ Pré-ventes dès le 4 décembre en mairie :\n👉 Tarifs Quiévrechinois : \nAdultes : 13 € (20 € sur place)\nEnfants (-12 ans) : 5 € (8 € sur place) \n👉 Tarifs extérieurs : \nAdultes : 18 € (25 € sur place)\nEnfants (-12 ans) : 10 € (13 € sur place) \n🎤 Ne manquez pas ce grand retour\, réservez vite vos places en pré-vente ! 👏 \n📍 Lieu : Complexe sportif de la Corderie\, Quiévrechain\n🗓️ Date : Samedi 25 janvier 2025\n⏰ Heure : 20h \nOn vous attend nombreux pour vibrer au son de l’orchestre Kubiak ! 🎵
URL:https://quievrechain.fr/event/25-janvier-orchestre-kubiak/
LOCATION:Complexe Sportif de la Corderie\, Quiévrechain\, 59920
CATEGORIES:Festivités
ATTACH;FMTTYPE=image/jpeg:https://quievrechain.fr/wp-content/uploads/2024/11/COMPLET.jpg
END:VEVENT
END:VCALENDAR