BEGIN:VCALENDAR
VERSION:2.0
PRODID:-//Ville de Quiévrechain - ECPv5.14.1//NONSGML v1.0//EN
CALSCALE:GREGORIAN
METHOD:PUBLISH
X-WR-CALNAME:Ville de Quiévrechain
X-ORIGINAL-URL:https://quievrechain.fr
X-WR-CALDESC:Events for Ville de Quiévrechain
REFRESH-INTERVAL;VALUE=DURATION:PT1H
X-Robots-Tag:noindex
X-PUBLISHED-TTL:PT1H
BEGIN:VTIMEZONE
TZID:Europe/Paris
BEGIN:DAYLIGHT
TZOFFSETFROM:+0100
TZOFFSETTO:+0200
TZNAME:CEST
DTSTART:20250330T010000
END:DAYLIGHT
BEGIN:STANDARD
TZOFFSETFROM:+0200
TZOFFSETTO:+0100
TZNAME:CET
DTSTART:20251026T010000
END:STANDARD
END:VTIMEZONE
BEGIN:VEVENT
DTSTART;TZID=Europe/Paris:20250115T140000
DTEND;TZID=Europe/Paris:20250115T153000
DTSTAMP:20260426T020049
CREATED:20250103T095435Z
LAST-MODIFIED:20250103T095435Z
UID:60794-1736949600-1736955000@quievrechain.fr
SUMMARY:[15 janvier] L'heure du conte : L'Ours en Hiver
DESCRIPTION:🐻❄️ L’heure du conte : L’Ours en Hiver 🌨️\n \n\n\nMercredi 15 janvier de 14h à 15h30\, plongez dans l’univers hivernal de l’ours ! Un moment dépaysant pour les enfants de 5 à 8 ans à la bibliothèque. \n\n\n \n🎟️ Attention\, les places sont limitées et sur réservation !\n\n\n \nNe manquez pas cette belle aventure !
URL:https://quievrechain.fr/event/15-janvier-lheure-du-conte-lours-en-hiver/
LOCATION:Bibliotheque
CATEGORIES:Jeunesse
ATTACH;FMTTYPE=image/png:https://quievrechain.fr/wp-content/uploads/2025/01/Atelier-lheure-du-conte.png
END:VEVENT
END:VCALENDAR