BEGIN:VCALENDAR
VERSION:2.0
PRODID:-//Ville de Quiévrechain - ECPv5.14.1//NONSGML v1.0//EN
CALSCALE:GREGORIAN
METHOD:PUBLISH
X-WR-CALNAME:Ville de Quiévrechain
X-ORIGINAL-URL:https://quievrechain.fr
X-WR-CALDESC:Events for Ville de Quiévrechain
REFRESH-INTERVAL;VALUE=DURATION:PT1H
X-Robots-Tag:noindex
X-PUBLISHED-TTL:PT1H
BEGIN:VTIMEZONE
TZID:Europe/Paris
BEGIN:DAYLIGHT
TZOFFSETFROM:+0100
TZOFFSETTO:+0200
TZNAME:CEST
DTSTART:20250330T010000
END:DAYLIGHT
BEGIN:STANDARD
TZOFFSETFROM:+0200
TZOFFSETTO:+0100
TZNAME:CET
DTSTART:20251026T010000
END:STANDARD
END:VTIMEZONE
BEGIN:VEVENT
DTSTART;TZID=Europe/Paris:20250106T150000
DTEND;TZID=Europe/Paris:20250106T190000
DTSTAMP:20260426T015953
CREATED:20241210T084246Z
LAST-MODIFIED:20241210T084246Z
UID:60750-1736175600-1736190000@quievrechain.fr
SUMMARY:[06 janvier] Don du sang
DESCRIPTION: \n\n🩸 Prochain don du sang le lundi 06 janvier de 15h à 19h à la salle des fêtes de Quiévrechain.  \n👉 Vous pouvez prendre rendez-vous ici.
URL:https://quievrechain.fr/event/06-janvier-don-du-sang/
LOCATION:Salle des fêtes\, Place Roger Salengro\, Quiévrechain\, France
CATEGORIES:Santé
ATTACH;FMTTYPE=image/jpeg:https://quievrechain.fr/wp-content/uploads/2024/12/16_2025-01-06_1005834_QUIEVRECHAIN.jpg
END:VEVENT
END:VCALENDAR