BEGIN:VCALENDAR
VERSION:2.0
PRODID:-//Ville de Quiévrechain - ECPv5.14.1//NONSGML v1.0//EN
CALSCALE:GREGORIAN
METHOD:PUBLISH
X-WR-CALNAME:Ville de Quiévrechain
X-ORIGINAL-URL:https://quievrechain.fr
X-WR-CALDESC:Events for Ville de Quiévrechain
REFRESH-INTERVAL;VALUE=DURATION:PT1H
X-Robots-Tag:noindex
X-PUBLISHED-TTL:PT1H
BEGIN:VTIMEZONE
TZID:Europe/Paris
BEGIN:DAYLIGHT
TZOFFSETFROM:+0100
TZOFFSETTO:+0200
TZNAME:CEST
DTSTART:20240331T010000
END:DAYLIGHT
BEGIN:STANDARD
TZOFFSETFROM:+0200
TZOFFSETTO:+0100
TZNAME:CET
DTSTART:20241027T010000
END:STANDARD
END:VTIMEZONE
BEGIN:VEVENT
DTSTART;TZID=Europe/Paris:20241220T113000
DTEND;TZID=Europe/Paris:20241220T130000
DTSTAMP:20260426T033238
CREATED:20241108T091117Z
LAST-MODIFIED:20241108T091315Z
UID:60552-1734694200-1734699600@quievrechain.fr
SUMMARY:[20 décembre] Repas intergénérationnel
DESCRIPTION:Vous avez plus de 65 ans ? Participez au repas intergénérationnel à la restauration scolaire.\n \nCe moment d’échange et de partage avec les écoliers aura lieu le dernier jour avant les vacances de Noël\, le vendredi 20 décembre 2024 à 11h45.\n \nLes inscriptions seront ouvertes du 15 novembre au 11 décembre\, au service population de la mairie. Le tarif est de 4\,50 € par personne.\n \nAu menu :\nSalade de perles de pâtes au saumon fumé\nSauté de chapon sauce aux marrons et pain d’épices\nou\nFricassée de cabillaud sauce aux marrons et pain d’épices\nPommes de terre pops et petits pois carottes Bûche de Noël
URL:https://quievrechain.fr/event/20-decembre-repas-intergenerationnel/
LOCATION:Ancien collège\, 9 rue des champs\, Quiévrechain\, 59920\, France
CATEGORIES:Jeunesse
ATTACH;FMTTYPE=image/jpeg:https://quievrechain.fr/wp-content/uploads/2024/11/Repas-inter-noel-2024-scaled.jpg
END:VEVENT
END:VCALENDAR