BEGIN:VCALENDAR
VERSION:2.0
PRODID:-//Ville de Quiévrechain - ECPv5.14.1//NONSGML v1.0//EN
CALSCALE:GREGORIAN
METHOD:PUBLISH
X-WR-CALNAME:Ville de Quiévrechain
X-ORIGINAL-URL:https://quievrechain.fr
X-WR-CALDESC:Events for Ville de Quiévrechain
REFRESH-INTERVAL;VALUE=DURATION:PT1H
X-Robots-Tag:noindex
X-PUBLISHED-TTL:PT1H
BEGIN:VTIMEZONE
TZID:Europe/Paris
BEGIN:DAYLIGHT
TZOFFSETFROM:+0100
TZOFFSETTO:+0200
TZNAME:CEST
DTSTART:20240331T010000
END:DAYLIGHT
BEGIN:STANDARD
TZOFFSETFROM:+0200
TZOFFSETTO:+0100
TZNAME:CET
DTSTART:20241027T010000
END:STANDARD
END:VTIMEZONE
BEGIN:VEVENT
DTSTART;VALUE=DATE:20241019
DTEND;VALUE=DATE:20241028
DTSTAMP:20260426T063937
CREATED:20241022T153641Z
LAST-MODIFIED:20241022T153641Z
UID:60475-1729296000-1730073599@quievrechain.fr
SUMMARY:[19-27 octobre] Fête foraine
DESCRIPTION:Ce samedi 19 octobre\, c’est le retour de la fête foraine à Quiévrechain. Jusqu’au 27 octobre\, place Roger Salengro\, venez vous amuser 🎃👻 \n👉Samedi 19 : 1 ticket acheté = 1 ticket gratuit (sur présentation du bon correspondant à télécharger ici : https://quievrechain.fr/wp-content/uploads/2024/10/Tickets-Samedi19octobre2024.pdf )\n👉Mercredi 23 : Tarifs réduits sur tous les manèges (sur présentation du bon correspondant à télécharger ici : https://quievrechain.fr/wp-content/uploads/2024/10/Tickets23octobre2024.pdf )\n👉Samedi 26 : Après midi Halloween (manèges à tarifs exceptionnels pour tous les enfants (-12 ans) déguisés) : inscription de 16h à 17h30 sur le podium avec la participation du COAB (remise d’une surprise)\n👉Dimanche 27 : Tombola\, tirage à 19h avec la participation du CAOB.
URL:https://quievrechain.fr/event/19-27-octobre-fete-foraine/
LOCATION:Place Roger Salengro\, Place Roger Salengro\, Quiévrechain\, 59920\, France
CATEGORIES:Festivités
ATTACH;FMTTYPE=image/jpeg:https://quievrechain.fr/wp-content/uploads/2024/10/fete-foraine-2024-scaled.jpg
END:VEVENT
END:VCALENDAR